BEGIN:VCALENDAR
PRODID:-//dvv-bw.de//dvv.Portalplattform//DE
VERSION:2.0
METHOD:PUBLISH
BEGIN:VEVENT
DTSTART:20260915T060000Z
DTEND:20260915T160000Z
DTSTAMP:20260421T165001Z
UID:523252461965-523252460406-1789423200000
SUMMARY:Herbstmarkt Plattenhardt
LOCATION:Ortszentrum Plattenhardt\, Uhlbergstraße\, 70794 Filderstadt
DESCRIPTION:Die Angebotspalette auf dem Herbstmarkt Plattenhardt bietet für alle Altersgruppen an\, was das Herz begehrt - von Textilien\, Schmuck\, Gewürzen\, Spielwaren und Bastelartikeln bis hin zu Parfüms und Haushaltswaren. Für das leibliche Wohl ist ebenfalls gesorgt.
CLASS:PUBLIC
X-ALT-DESC;FMTTYPE=text/html:Die Angebotspalette auf dem Herbstmarkt Plattenhardt bietet für alle Altersgruppen an\, was das Herz begehrt - von Textilien\, Schmuck\, Gewürzen\, Spielwaren und Bastelartikeln bis hin zu Parfüms und Haushaltswaren. Für das leibliche Wohl ist ebenfalls gesorgt.
END:VEVENT
END:VCALENDAR
