BEGIN:VCALENDAR
PRODID:-//dvv-bw.de//dvv.Portalplattform//DE
VERSION:2.0
METHOD:PUBLISH
BEGIN:VEVENT
DTSTART:20260923T060000Z
DTEND:20260923T160000Z
DTSTAMP:20260421T183020Z
UID:523252461966-523252460407-1790114400000
SUMMARY:Herbstmarkt Sielmingen
LOCATION:Ortszentrum Sielmingen
DESCRIPTION:Die Angebotspalette auf dem Herbstmarkt Sielmingen bietet für alle Altersgruppen an\, was das Herz begehrt - von Textilien\, Schmuck\, Gewürzen\, Spielwaren und Bastelartikeln bis hin zu Parfüms und Haushaltswaren. Für das leibliche Wohl ist ebenfalls gesorgt.
CLASS:PUBLIC
X-ALT-DESC;FMTTYPE=text/html:Die Angebotspalette auf dem Herbstmarkt Sielmingen bietet für alle Altersgruppen an\, was das Herz begehrt - von Textilien\, Schmuck\, Gewürzen\, Spielwaren und Bastelartikeln bis hin zu Parfüms und Haushaltswaren. Für das leibliche Wohl ist ebenfalls gesorgt.
END:VEVENT
END:VCALENDAR
